BEGIN:VCALENDAR
VERSION:2.0
PRODID:-//Kendall&#039;s - ECPv6.15.18//NONSGML v1.0//EN
CALSCALE:GREGORIAN
METHOD:PUBLISH
X-WR-CALNAME:Kendall&#039;s
X-ORIGINAL-URL:https://www.kendallstc.com
X-WR-CALDESC:Events for Kendall&#039;s
REFRESH-INTERVAL;VALUE=DURATION:PT1H
X-Robots-Tag:noindex
X-PUBLISHED-TTL:PT1H
BEGIN:VTIMEZONE
TZID:America/Chicago
BEGIN:DAYLIGHT
TZOFFSETFROM:-0600
TZOFFSETTO:-0500
TZNAME:CDT
DTSTART:20240310T080000
END:DAYLIGHT
BEGIN:STANDARD
TZOFFSETFROM:-0500
TZOFFSETTO:-0600
TZNAME:CST
DTSTART:20241103T070000
END:STANDARD
BEGIN:DAYLIGHT
TZOFFSETFROM:-0600
TZOFFSETTO:-0500
TZNAME:CDT
DTSTART:20250309T080000
END:DAYLIGHT
BEGIN:STANDARD
TZOFFSETFROM:-0500
TZOFFSETTO:-0600
TZNAME:CST
DTSTART:20251102T070000
END:STANDARD
BEGIN:DAYLIGHT
TZOFFSETFROM:-0600
TZOFFSETTO:-0500
TZNAME:CDT
DTSTART:20260308T080000
END:DAYLIGHT
BEGIN:STANDARD
TZOFFSETFROM:-0500
TZOFFSETTO:-0600
TZNAME:CST
DTSTART:20261101T070000
END:STANDARD
END:VTIMEZONE
BEGIN:VEVENT
DTSTART;TZID=America/Chicago:20251220T100000
DTEND;TZID=America/Chicago:20251220T130000
DTSTAMP:20260422T050041
CREATED:20251103T202551Z
LAST-MODIFIED:20251103T202554Z
UID:10000986-1766224800-1766235600@www.kendallstc.com
SUMMARY:Santa Brunch
DESCRIPTION:Join us for our Santa Brunch! Enjoy a special appearance from Santa himself\, complimentary Santa cookies\, a letters-to-Santa station\, and a festive photo opportunity — fun for the whole family! \n\n\n\n\nReservations
URL:https://www.kendallstc.com/special-event/santa-brunch-2025/
END:VEVENT
BEGIN:VEVENT
DTSTART;TZID=America/Chicago:20251231T110000
DTEND;TZID=America/Chicago:20251231T210000
DTSTAMP:20260422T050041
CREATED:20251124T213511Z
LAST-MODIFIED:20251124T213514Z
UID:10000987-1767178800-1767214800@www.kendallstc.com
SUMMARY:New Year's Eve
DESCRIPTION:Cheers to good company and even better food. Celebrate New Year’s Eve at Kendall’s!  \n\n\n\n\nFeatures\n\n\n\nLimited Menu\n\n\n\nReservations
URL:https://www.kendallstc.com/special-event/new-years-eve-2025/
END:VEVENT
END:VCALENDAR